Uber Exif Photo
By-line : Brandon Skinner
Keywords : brandon skinner photography, flash, gaslamp, leica m8, skinner photographs, street
Copyright Notice : Brandon Skinner Photography
Copyright Flag : True
URL : www.skinnerphotographs.com
Photometric Interpretation : RGB
Make : Leica Camera AG
Camera Model Name : M8 Digital Camera
Orientation : Horizontal (normal)
Software : Adobe Photoshop CS5 Windows
Modify Date : 2011:12:26 23:02:01
Artist : Brandon Skinner
Copyright : Brandon Skinner Photography
Exposure Time : 1/15
F Number : 5.7
Exposure Program : Manual
ISO : 320
Date/Time Original : 2011:12:23 22:36:57
Create Date : 2011:12:23 22:36:57
Shutter Speed Value : 1/15
Aperture Value : 5.7
Exposure Compensation : 0
Max Aperture Value : 1.0
Metering Mode : Center-weighted average
Light Source : Unknown
Flash : On, Did not fire
Color Space : sRGB
Exif Image Width : 2406
Exif Image Height : 2535
Scene Type : Directly photographed
White Balance : Auto
Digital Zoom Ratio : 0
Scene Capture Type : Standard
Serial Number : 3106126
Creator Tool : Adobe Photoshop CS5 Windows
Date Created : 2011:12:23 22:36:57
Color Mode : RGB
ICC Profile Name : sRGB IEC61966-2.1
Marked : True
Web Statement : www.skinnerphotographs.com
Version : 6.5
Process Version : 5.7
Color Temperature : 5450
Tint : -6
Exposure : +1.79
Shadows : 5
Brightness : +50
Contrast : +86
Sharpness : 62
Luminance Smoothing : 0
Color Noise Reduction : 25
Chromatic Aberration R : 0
Chromatic Aberration B : 0
Vignette Amount : 0
Shadow Tint : 0
Red Hue : 0
Red Saturation : 0
Green Hue : 0
Green Saturation : 0
Blue Hue : 0
Blue Saturation : 0
Fill Light : 10
Highlight Recovery : 100
Clarity : +98
Defringe : 0
Gray Mixer Red : -7
Gray Mixer Orange : -15
Gray Mixer Yellow : -19
Gray Mixer Green : -24
Gray Mixer Aqua : -18
Gray Mixer Blue : +7
Gray Mixer Purple : +13
Gray Mixer Magenta : +3
Split Toning Shadow Hue : 0
Split Toning Shadow Saturation : 0
Split Toning Highlight Hue : 0
Split Toning Highlight Saturation : 0
Split Toning Balance : 0
Parametric Shadows : 0
Parametric Darks : -1
Parametric Lights : 0
Parametric Highlights : +35
Parametric Shadow Split : 25
Parametric Midtone Split : 50
Parametric Highlight Split : 75
Sharpen Radius : +1.0
Sharpen Detail : 25
Sharpen Edge Masking : 0
Post Crop Vignette Amount : 0
Grain Amount : 0
Color Noise Reduction Detail : 50
Lens Profile Enable : 0
Lens Manual Distortion Amount : 0
Perspective Vertical : 0
Perspective Horizontal : 0
Perspective Rotate : 0.0
Perspective Scale : 100
Convert To Grayscale : True
Tone Curve Name : Medium Contrast
Camera Profile : Adobe Standard
Lens Profile Setup : LensDefaults
Has Settings : True
Crop Top : 0
Crop Left : 0.058324
Crop Bottom : 1
Crop Right : 1
Crop Angle : 0
Crop Constrain To Warp : 0
Crop Width : 3688
Crop Height : 2634
Crop Unit : pixels
Has Crop : True
Already Applied : True
Format : image/jpeg
Tone Curve : 0, 0, 32, 22, 64, 56, 128, 128, 192, 196, 255, 255
Creator : Brandon Skinner
Rights : Brandon Skinner Photography
Subject : brandon skinner photography, flash, gaslamp, leica m8, skinner photographs, street
Creator Postal Code : 92024
Creator City : Encinitas, CA
Creator Country : USA
Creator Work Email : skinnerphotographs@gmail.com
Creator Work URL : www.skinnerphotographs.com
Image Width : 285
Image Height : 300
Bits Per Sample : 8
Color Components : 1
Aperture : 5.7
Image Size : 285x300
Megapixels : 0.086
Scale Factor To 35 mm Equivalent : 1.8
Shutter Speed : 1/15
Circle Of Confusion : 0.016 mm
Light Value : 7.3