Uber Exif Photo
Photometric Interpretation : RGB
Make : Leica Camera AG
Camera Model Name : M8 Digital Camera
Orientation : Horizontal (normal)
Software : Adobe Photoshop CS5 Macintosh
Modify Date : 2011:09:19 13:28:17
Exposure Time : 1/3000
F Number : 2.0
Exposure Program : Aperture-priority AE
ISO : 320
Date/Time Original : 2011:09:17 14:39:04
Create Date : 2011:09:17 14:39:04
Shutter Speed Value : 1/3000
Aperture Value : 2.0
Exposure Compensation : 0
Max Aperture Value : 1.0
Metering Mode : Center-weighted average
Light Source : Unknown
Flash : Auto, Did not fire
Color Space : Uncalibrated
Exif Image Width : 1024
Exif Image Height : 689
Scene Type : Directly photographed
White Balance : Manual
Digital Zoom Ratio : 0
Scene Capture Type : Standard
Serial Number : 3104624
Profile Description : Adobe RGB (1998)
Creator Tool : Adobe Photoshop Lightroom 3.4.1
Date Created : 2011:09:17 14:39:04
Color Mode : RGB
ICC Profile Name : Adobe RGB (1998)
Version : 6.4.1
Process Version : 5.7
Incremental Temperature : 0
Incremental Tint : 0
Exposure : 0.00
Shadows : 5
Brightness : 0
Contrast : 0
Saturation : 0
Sharpness : 41
Luminance Smoothing : 0
Color Noise Reduction : 20
Chromatic Aberration R : 0
Chromatic Aberration B : 0
Vignette Amount : 0
Shadow Tint : 0
Red Hue : 0
Red Saturation : 0
Green Hue : 0
Green Saturation : 0
Blue Hue : 0
Blue Saturation : 0
Fill Light : 20
Vibrance : 0
Highlight Recovery : 0
Clarity : 0
Defringe : 0
Hue Adjustment Red : 0
Hue Adjustment Orange : 0
Hue Adjustment Yellow : 0
Hue Adjustment Green : 0
Hue Adjustment Aqua : 0
Hue Adjustment Blue : 0
Hue Adjustment Purple : 0
Hue Adjustment Magenta : 0
Saturation Adjustment Red : 0
Saturation Adjustment Orange : 0
Saturation Adjustment Yellow : 0
Saturation Adjustment Green : 0
Saturation Adjustment Aqua : 0
Saturation Adjustment Blue : 0
Saturation Adjustment Purple : 0
Saturation Adjustment Magenta : 0
Luminance Adjustment Red : 0
Luminance Adjustment Orange : 0
Luminance Adjustment Yellow : 0
Luminance Adjustment Green : 0
Luminance Adjustment Aqua : 0
Luminance Adjustment Blue : 0
Luminance Adjustment Purple : 0
Luminance Adjustment Magenta : 0
Split Toning Shadow Hue : 0
Split Toning Shadow Saturation : 0
Split Toning Highlight Hue : 0
Split Toning Highlight Saturation : 0
Split Toning Balance : 0
Parametric Shadows : 0
Parametric Darks : 0
Parametric Lights : 0
Parametric Highlights : 0
Parametric Shadow Split : 25
Parametric Midtone Split : 50
Parametric Highlight Split : 75
Sharpen Radius : +0.6
Sharpen Detail : 20
Sharpen Edge Masking : 35
Post Crop Vignette Amount : 0
Grain Amount : 0
Color Noise Reduction Detail : 50
Lens Profile Enable : 0
Lens Manual Distortion Amount : 0
Perspective Vertical : 0
Perspective Horizontal : 0
Perspective Rotate : 0.0
Perspective Scale : 100
Convert To Grayscale : False
Tone Curve Name : Linear
Camera Profile : Embedded
Lens Profile Setup : LensDefaults
Has Settings : True
Has Crop : False
Already Applied : True
Format : image/jpeg
Tone Curve : 0, 0, 255, 255
Image Width : 300
Image Height : 202
Bits Per Sample : 8
Color Components : 3
Aperture : 2.0
Image Size : 300x202
Megapixels : 0.061
Scale Factor To 35 mm Equivalent : 5.2
Shutter Speed : 1/3000
Circle Of Confusion : 0.006 mm
Light Value : 11.9