Uber Exif Photo
Sub-location : La Palma
Copyright Notice : Dierk Topp
Copyright Flag : True
URL : www.lapalmagaleria.info
Make : Leica Camera AG
Camera Model Name : M9 Digital Camera
Software : 1.002
Modify Date : 2010:11:02 14:56:43
Copyright : Dierk Topp
Exposure Time : 1/500
F Number : 6.7
Exposure Program : Aperture-priority AE
ISO : 80
Date/Time Original : 2010:02:23 14:01:08
Create Date : 2010:02:23 14:01:08
Shutter Speed Value : 1/500
Aperture Value : 6.7
Exposure Compensation : 0
Max Aperture Value : 1.4
Metering Mode : Center-weighted average
Light Source : Unknown
Focal Length : 35.0 mm
Contrast : Normal
Sharpening : Normal
Saturation : Normal
JPEG Quality : Fine
White Balance : Auto
WB RGB Levels : 0.4465400234 1 0.7678320367
User Profile : CV35
Serial Number : *******
Firmware Version : 1.002
Base ISO : 160
Sensor Width : 5270
Sensor Height : 3516
Sensor Bit Depth : 14
Camera Temperature : 25 C
Lens Type : Summilux-M 35mm f/1.4 ASPH.
Approximate F Number : 5.5
Measured LV : 6.28
External Sensor Brightness Value : 6.80
Color Space : Uncalibrated
Scene Type : Directly photographed
Exposure Mode : Manual
Digital Zoom Ratio : 0
Focal Length In 35mm Format : 35 mm
Scene Capture Type : Standard
Maker Note Safety : Safe
Location : La Palma
Lens : Leica Summilux-M 35mm f/1.4 ASPH.
Rights : Dierk Topp
Date/Time Digitized : 2010:02:23 14:01:08Z
Flash Fired : False
Flash Function : False
Flash Mode : Unknown
Flash Red Eye Mode : False
Flash Return : No return detection
Exif Image Width : 1500
Exif Image Height : 919
Sharpness : Hard
Creator Tool : Adobe Photoshop Lightroom
Marked : True
Web Statement : www.lapalmagaleria.info
Already Applied : True
Blue Hue : 0
Blue Saturation : 0
Brightness : +88
Camera Profile : Adobe Standard
Chromatic Aberration B : 0
Chromatic Aberration R : 0
Clarity : 0
Color Noise Reduction : 25
Convert To Grayscale : True
Crop Angle : 1.34376
Crop Bottom : 0.923709
Crop Height : 919
Crop Left : 0.024565
Crop Right : 0.976626
Crop Top : 0
Crop Unit : pixels
Crop Width : 1500
Defringe : 0
Exposure : 0.00
Fill Light : 7
Gray Mixer Aqua : -10
Gray Mixer Blue : -50
Gray Mixer Green : -79
Gray Mixer Magenta : 0
Gray Mixer Orange : 0
Gray Mixer Purple : 0
Gray Mixer Red : 0
Gray Mixer Yellow : 0
Green Hue : 0
Green Saturation : 0
Has Crop : True
Has Settings : True
Highlight Recovery : 13
Luminance Smoothing : 0
Parametric Darks : +26
Parametric Highlight Split : 75
Parametric Highlights : 0
Parametric Lights : +14
Parametric Midtone Split : 50
Parametric Shadow Split : 25
Parametric Shadows : 0
Post Crop Vignette Amount : -43
Post Crop Vignette Feather : 61
Post Crop Vignette Midpoint : 50
Post Crop Vignette Roundness : 0
Red Hue : 0
Red Saturation : 0
Shadow Tint : 0
Shadows : 47
Sharpen Detail : 50
Sharpen Edge Masking : 0
Sharpen Radius : +0.8
Split Toning Balance : 0
Split Toning Highlight Hue : 0
Split Toning Highlight Saturation : 0
Split Toning Shadow Hue : 0
Split Toning Shadow Saturation : 0
Color Temperature : 5000
Tint : +9
Tone Curve : 0, 0, 32, 22, 64, 56, 128, 128, 192, 196, 255, 255
Tone Curve Name : Medium Contrast
Version : 6.1
Vignette Amount : 0
Image Width : 300
Image Height : 190
Bits Per Sample : 8
Color Components : 1
Aperture : 6.7
Blue Balance : 0.767832
Image Size : 300x190
Lens ID : Summilux-M 35mm f/1.4 ASPH.
Megapixels : 0.057
Red Balance : 0.44654
Scale Factor To 35 mm Equivalent : 1.0
Shutter Speed : 1/500
Flash : No Flash
Circle Of Confusion : 0.030 mm
Field Of View : 54.4 deg
Focal Length : 35.0 mm (35 mm equivalent: 35.0 mm)
Hyperfocal Distance : 6.09 m
Light Value : 14.8